BEGIN:VCALENDAR
VERSION:2.0
PRODID:-//Brisbane Boys&#039; College Old Collegians&#039; Association - ECPv6.15.18//NONSGML v1.0//EN
CALSCALE:GREGORIAN
METHOD:PUBLISH
X-WR-CALNAME:Brisbane Boys&#039; College Old Collegians&#039; Association
X-ORIGINAL-URL:https://oldcollegians.com.au
X-WR-CALDESC:Events for Brisbane Boys&#039; College Old Collegians&#039; Association
REFRESH-INTERVAL;VALUE=DURATION:PT1H
X-Robots-Tag:noindex
X-PUBLISHED-TTL:PT1H
BEGIN:VTIMEZONE
TZID:Australia/Brisbane
BEGIN:STANDARD
TZOFFSETFROM:+1000
TZOFFSETTO:+1000
TZNAME:AEST
DTSTART:20210101T000000
END:STANDARD
END:VTIMEZONE
BEGIN:VEVENT
DTSTART;VALUE=DATE:20231103
DTEND;VALUE=DATE:20231104
DTSTAMP:20260424T040155
CREATED:20221027T020133Z
LAST-MODIFIED:20230907T104825Z
UID:110727-1698969600-1699055999@oldcollegians.com.au
SUMMARY:2023 BBC OCA Golf Day
DESCRIPTION:Proudly hosted by the Old Collegian Association\, the BBC Golf Day is making its triumphant return! \nBOOKING LINK \nFriday\, 3 November | The Brisbane Golf Club\, Yeerongpilly \nWhether you’re a seasoned pro or a casual golfer\, this day promises to be a swingin’ good time. Join us for a day of camaraderie\, friendly competition\, and of course\, some impressive golfing action against the stunning backdrop of the Brisbane Golf Club. \nTeam Registration includes 4x players.  Hole Sponsorship is not only a great day on the greens with friends\, it further includes additional promotion for your business through exposure on a sponsored hole and business acknowledgement on the day and through our OCA media channels. \nPlease contact Tanya Bester in the BBC Alumni Office if you would like to be involved. \ntbester@bbc.qld.edu.au | 0416 085 136
URL:https://oldcollegians.com.au/event/2023-bbc-oca-golf-day/
LOCATION:The Brisbane Golf Club\, 70 Tennyson Memorial Avenue\, Yeerongpilly\, QLD
END:VEVENT
BEGIN:VEVENT
DTSTART;TZID=Australia/Brisbane:20230901T120000
DTEND;TZID=Australia/Brisbane:20230901T160000
DTSTAMP:20260424T040155
CREATED:20221026T062648Z
LAST-MODIFIED:20230814T002551Z
UID:110726-1693569600-1693584000@oldcollegians.com.au
SUMMARY:2023 BBC OCA Long Lunch
DESCRIPTION:BOOKING LINK \nThe BBC Long Lunch\, hosted by the Old Collegians’ Association (OCA)\, is a flagship event for the wider Brisbane Boys’ College Community. \nThe day is headlined by the ever-exciting sporting panel featuring legends in Cricket\, Rugby and Rowing – John Buchanan\, Steve Kefu and John Pettigrew. \nRupert McCall OAM\, highly respected and internationally renowned Australian poet with a deep passion for sport\, will be our MC for the afternoon. \nFriday\, 1 September | 12pm | The Boatshed\, Regatta Hotel \n$170 per person – Cost includes 2 Courses and 4 Hour Premium Beverage Package (an hour longer than last year!)\nExclusive Booth for 6x Guests: $1200\nExclusive Booth for 4x Guests: $800 \nDress: Business Attire\nDoors open at 12pm for a 12.30pm start\nPost event: Regatta Hotel \nThank you to our Event Sponsors: Oscar Hunt Brisbane and Mazars – Accounting and Audit Services \nPlease contact Tanya Bester in the BBC Alumni Office if you would like to be involved. \ntbester@bbc.qld.edu.au | 0416 085 136
URL:https://oldcollegians.com.au/event/bbc-oca-long-lunch-2023/
ORGANIZER;CN="Tanya Bester":MAILTO:oca@bbc.qld.edu.au
END:VEVENT
BEGIN:VEVENT
DTSTART;TZID=Australia/Brisbane:20230729T180000
DTEND;TZID=Australia/Brisbane:20230729T210000
DTSTAMP:20260424T040155
CREATED:20230127T002706Z
LAST-MODIFIED:20230321T084739Z
UID:110766-1690653600-1690664400@oldcollegians.com.au
SUMMARY:Class of 1983 | 40-Year Reunion
DESCRIPTION:BOOKING LINK \nYour Reunion Coordinators are: \nDean Yesberg (Reunion Captain) \nChristopher Drury \nJason Wright \nChris Hodge \nPlease contact Tanya Bester in the BBC Alumni Office if you would like to be involved. \ntbester@bbc.qld.edu.au | 0416 085 136
URL:https://oldcollegians.com.au/event/class-of-1983-40-year-reunion/
END:VEVENT
BEGIN:VEVENT
DTSTART;TZID=Australia/Brisbane:20230729T180000
DTEND;TZID=Australia/Brisbane:20230729T200000
DTSTAMP:20260424T040155
CREATED:20230127T002620Z
LAST-MODIFIED:20230321T084638Z
UID:110765-1690653600-1690660800@oldcollegians.com.au
SUMMARY:Class of 1993 | 30 Year Reunion
DESCRIPTION:BOOKING LINK \nYour Reunion Coordinators are: \nJames Cameron (Reunion Captain) \nBen Craven \nMike Gregory \nTim Bentley \nTim Harris \nPlease contact Tanya Bester in the BBC Alumni Office if you would like to be involved. \ntbester@bbc.qld.edu.au | 0416 085 136
URL:https://oldcollegians.com.au/event/class-of-1993-30-year-reunion/
END:VEVENT
BEGIN:VEVENT
DTSTART;TZID=Australia/Brisbane:20230729T173000
DTEND;TZID=Australia/Brisbane:20230729T230000
DTSTAMP:20260424T040155
CREATED:20230517T063917Z
LAST-MODIFIED:20230517T064658Z
UID:110807-1690651800-1690671600@oldcollegians.com.au
SUMMARY:Class of 1973 | 50-Year Reunion
DESCRIPTION:BOOKING LINK \nYour Reunion Coordinators are: \nJon Broadley \nChris Beech \nAndrew Cole \nHarley Cowlishaw \nAnthony Wilson \nPlease contact Tanya Bester in the BBC Alumni Office if you would like to be involved. \ntbester@bbc.qld.edu.au | 0416 085 136 \n  \n  \n 
URL:https://oldcollegians.com.au/event/class-of-1983-40-year-reunion-2/
END:VEVENT
BEGIN:VEVENT
DTSTART;VALUE=DATE:20230729
DTEND;VALUE=DATE:20230730
DTSTAMP:20260424T040155
CREATED:20221026T062534Z
LAST-MODIFIED:20230728T031231Z
UID:110723-1690588800-1690675199@oldcollegians.com.au
SUMMARY:2023 BBC OCA Old Boys' Day
DESCRIPTION:Old Boys’ Day is a time-honoured tradition where past and present collide. Rekindle your school spirit\, cheer on our Basketball and Rugby boys against Churchie\, and enjoy a day of festivities that celebrate the unique bond we all share. We’ll start the day off with a School Tour and end the day with laughter\, stories\, and renewed friendships in the Old Boys’ Marquee on P&F oval! \n11.30am Reconnect Relive School Tour 1 (starts in St Andrew’s Chapel)  BOOKING LINK \n12.15pm BBC First V Basketball vs Churchie – Sports Complex \n1.15pm Reconnect Relive School Tour 2 (starts in St Andrew’s Chapel)  BOOKING LINK \n2.15pm BBC First XV Rugby vs Churchie – Miskin Oval \n3.35pm Cheers and Beers in the Old Boys’ Marquee (presale drink tickets can be bought during the rugby game – look out for the OCA gazebo near the canteen) \nWe invite all member of the BBC and Churchie Community to join us! \nPlease contact Tanya Bester in the BBC Alumni Office with any queries. \ntbester@bbc.qld.edu.au | 0416 085 136
URL:https://oldcollegians.com.au/event/bbc-oca-old-boys-day-2023/
LOCATION:Miskin Oval | Brisbane Boys’ College\, Kensington Terrace\, Toowong
ORGANIZER;CN="Tanya Bester":MAILTO:oca@bbc.qld.edu.au
END:VEVENT
BEGIN:VEVENT
DTSTART;TZID=Australia/Brisbane:20230720T120000
DTEND;TZID=Australia/Brisbane:20230720T150000
DTSTAMP:20260424T040155
CREATED:20230117T083203Z
LAST-MODIFIED:20230117T083440Z
UID:110758-1689854400-1689865200@oldcollegians.com.au
SUMMARY:Vintage Collegians' Christmas in July
DESCRIPTION:Save the date – more information to follow.
URL:https://oldcollegians.com.au/event/vintage-collegians-christmas-in-july/
END:VEVENT
BEGIN:VEVENT
DTSTART;TZID=Australia/Brisbane:20230714T070000
DTEND;TZID=Australia/Brisbane:20230714T090000
DTSTAMP:20260424T040155
CREATED:20230529T014006Z
LAST-MODIFIED:20230704T234032Z
UID:110812-1689318000-1689325200@oldcollegians.com.au
SUMMARY:BBC OCA Networking Breakfast: Investments
DESCRIPTION:EVENT POSTPONED \nUnfortunately\, unforeseen circumstances have arisen\, leading us to regrettably announce the postponement of our upcoming networking breakfast scheduled for 14 July. Please note that we are not cancelling the event; instead\, we intend to reschedule it for a later date within this year. We will diligently keep you informed of any updates. We appreciate your understanding \nPlease contact Tanya Bester in the BBC Alumni Office if you have any questions or would like to be involved in future events. \ntbester@bbc.qld.edu.au | 0416 085 136 \n 
URL:https://oldcollegians.com.au/event/bbc-oca-networking-breakfast-investments/
LOCATION:Hillstone\, St Lucia\, Carawa Street\, St Lucia\, 4067\, Australia
ORGANIZER;CN="Tanya Bester":MAILTO:oca@bbc.qld.edu.au
END:VEVENT
BEGIN:VEVENT
DTSTART;TZID=Australia/Brisbane:20230616T120000
DTEND;TZID=Australia/Brisbane:20230616T160000
DTSTAMP:20260424T040155
CREATED:20230127T002844Z
LAST-MODIFIED:20230517T053232Z
UID:110768-1686916800-1686931200@oldcollegians.com.au
SUMMARY:Class of 1963 | 60-Year Reunion
DESCRIPTION:A Reunion Lunch for those who did\, or could have\, or should have\, or wanted to leave School in 1963! \nBOOKING LINK \nYour Reunion Coordinators are: \nStuart Gregory (Reunion Captain) \nDavid Simpson \nJohn Lee-Bernstein \nRobert English \nIan Fraser \nPeter Short \n\nPlease check in with friends from our Class of 1963 to make sure they know about this reunion! \n\n\nPlease contact Tanya Bester in the BBC Alumni Office if you would like to be involved. \n\ntbester@bbc.qld.edu.au | 0416 085 136
URL:https://oldcollegians.com.au/event/class-of-1963-60-year-reunion/
END:VEVENT
BEGIN:VEVENT
DTSTART;TZID=Australia/Brisbane:20230603T180000
DTEND;TZID=Australia/Brisbane:20230603T210000
DTSTAMP:20260424T040155
CREATED:20230127T002526Z
LAST-MODIFIED:20230321T084519Z
UID:110764-1685815200-1685826000@oldcollegians.com.au
SUMMARY:Class of 2003 | 20-Year Reunion
DESCRIPTION:BOOKING LINK \nYour Reunion Coordinators are: \nSam Polson \nTom Bell \nThomas Bermingham \nPlease contact Tanya Bester in the BBC Alumni Office if you would like to be involved. \ntbester@bbc.qld.edu.au | 0416 085 136
URL:https://oldcollegians.com.au/event/class-of-2003-20-year-reunion/
END:VEVENT
BEGIN:VEVENT
DTSTART;TZID=Australia/Brisbane:20230603T180000
DTEND;TZID=Australia/Brisbane:20230603T210000
DTSTAMP:20260424T040155
CREATED:20230127T002359Z
LAST-MODIFIED:20230321T084343Z
UID:110763-1685815200-1685826000@oldcollegians.com.au
SUMMARY:Class of 2013 | 10-Year Reunion
DESCRIPTION:BOOKING LINK \nYour Reunion Coordinators are: \nSam Catlow \nPeter White \nPlease contact Tanya Bester in the BBC Alumni Office if you would like to be involved. \ntbester@bbc.qld.edu.au | 0416 085 136
URL:https://oldcollegians.com.au/event/class-of-2013-10-year-reunion/
END:VEVENT
BEGIN:VEVENT
DTSTART;TZID=Australia/Brisbane:20230525T120000
DTEND;TZID=Australia/Brisbane:20230525T140000
DTSTAMP:20260424T040155
CREATED:20230117T082952Z
LAST-MODIFIED:20230523T020620Z
UID:110757-1685016000-1685023200@oldcollegians.com.au
SUMMARY:Vintage Collegians' Lunch in Caloundra
DESCRIPTION:Booking Link \nPlease contact Tanya Bester in the BBC Alumni Office if you would like to be involved. \ntbester@bbc.qld.edu.au | 0416 085 136
URL:https://oldcollegians.com.au/event/vintage-collegians-lunch-in-caloundra/
END:VEVENT
BEGIN:VEVENT
DTSTART;TZID=Australia/Brisbane:20230505T064500
DTEND;TZID=Australia/Brisbane:20230505T064500
DTSTAMP:20260424T040155
CREATED:20230117T082845Z
LAST-MODIFIED:20230331T074811Z
UID:110756-1683269100-1683269100@oldcollegians.com.au
SUMMARY:BBC OCA Networking Breakfast: Buy\, Hold\, Sell?
DESCRIPTION:BOOKING LINK \nThis event invites you to network with our community and hear investment perspectives from a multi-sector panel of real estate experts. \nInvites are open to the entire BBC community\, including parents\, senior students\, friends and Old Boys. \nTime: 6.45am – 8.30am\nTicket: $35pp includes brekky and barista brew\nTable: $240 for a table of 8\nDress: Business attire \nYou can book a single ticket for $35 or why not consider buying a table for clients or hosting some senior students who may benefit from industry related discussions and an opportunity to make connections in our community. \nBookings close Friday 28 April 2023. \n\n\nHillstone\, The Grandview Room\nSt Lucia QLD 4068 \n\n\nPlease contact Tanya Bester in the BBC Alumni Office if you would like to be involved. \ntbester@bbc.qld.edu.au | 0416 085 136 \n 
URL:https://oldcollegians.com.au/event/bbc-oca-networking-breakfast-2/
END:VEVENT
BEGIN:VEVENT
DTSTART;TZID=Australia/Brisbane:20230427T180000
DTEND;TZID=Australia/Brisbane:20230427T210000
DTSTAMP:20260424T040155
CREATED:20230125T032953Z
LAST-MODIFIED:20230315T070352Z
UID:110762-1682618400-1682629200@oldcollegians.com.au
SUMMARY:Sydney Old Boys' Reunion
DESCRIPTION:BOOKING LINK \nA Reunion for Old Boys living\, staying or visiting Sydney\, to catch up\, reminisce and hear all the latest news about the College from the Headmaster. \nDate: Thursday 27 April 2023\nTime: 6pm\nVenue: Club Bar\, Hotel CBD\nCost: $50 includes canapes and a three hour drinks package\nBookings close 20 April 2023. \nThis event is proudly hosted by the Old Collegians’ Association.\nFor further information information please contact Tanya Bester in the Alumni Office on 0416 085 136. \n 
URL:https://oldcollegians.com.au/event/sydney-reunion/
LOCATION:Hotel CBD | Club Bar\, 52 King Street\, Sydney\, NSW\, 2000\, Australia
END:VEVENT
BEGIN:VEVENT
DTSTART;TZID=Australia/Brisbane:20230316T120000
DTEND;TZID=Australia/Brisbane:20230316T150000
DTSTAMP:20260424T040155
CREATED:20230117T082313Z
LAST-MODIFIED:20230224T100619Z
UID:110753-1678968000-1678978800@oldcollegians.com.au
SUMMARY:Vintage Collegians' Lunch in Toowoomba
DESCRIPTION:BOOKING LINK \nJoin us for the 2023 annual Vintage Collegians’ Toowoomba Luncheon on Thursday 16 March 2023\, from 11.30am (for a 12 noon lunch) until 2.30pm. \nA bus will depart from BBC (Kensington Terrace entrance) at 9.00am sharp\, returning at approximately 4.00pm (booking essential) \nFor more information please do not hesitate to contact Tanya Bester in the BBC Alumni Office on 0416 085 136 / tbester@bbc.qld.edu.au \n 
URL:https://oldcollegians.com.au/event/vintage-collegians-lunch-in-toowoomba/
END:VEVENT
BEGIN:VEVENT
DTSTART;TZID=Australia/Brisbane:20230310T180000
DTEND;TZID=Australia/Brisbane:20230310T200000
DTSTAMP:20260424T040155
CREATED:20230125T032618Z
LAST-MODIFIED:20230224T100536Z
UID:110761-1678471200-1678478400@oldcollegians.com.au
SUMMARY:Young Old Boys' Rugby Night
DESCRIPTION:BOOKING LINK \nAll past students from alumni years (2017-2022) are invited to attend a Young Old Boys’ rugby night proudly hosted by the Old Collegians’ Association. Tickets close on Wednesday 8 March – no sales at the door on the night. \nPlease contact Tanya Bester in the BBC Alumni Office if you would like to be involved. \ntbester@bbc.qld.edu.au | 0416 085 136 \n 
URL:https://oldcollegians.com.au/event/young-old-boys-event/
END:VEVENT
BEGIN:VEVENT
DTSTART;TZID=Australia/Brisbane:20230303T070000
DTEND;TZID=Australia/Brisbane:20230303T090000
DTSTAMP:20260424T040155
CREATED:20230117T082713Z
LAST-MODIFIED:20230224T100452Z
UID:110754-1677826800-1677834000@oldcollegians.com.au
SUMMARY:BBC OCA Networking Breakfast: Cyber-Security
DESCRIPTION:BOOKING LINK \n\nIn an increasingly digital world\, cyber security breaches dominate the news of the day. How are you\, your family and your business protected?\nEnjoy breakfast with our BBC community and hear stories and hands on advice from a curated panel of digital experts. Attendees will benefit from expert commentary on responses to new and emerging threats\, awareness of data protection and the steps a business or individual should take in the event of a data breach or cyber attack. \nThis event is proudly hosted by the OCA and supported by our sponsor REDD \nTime: 6.45am – 8.30am\nTicket: $30ppp includes brekky and barista brew\nDress: Business attire \nBookings close Friday 24 February 2023 \n\n\nVenue\nHillstone\, The Grandview Room\nSt Lucia QLD 4068 \nFor more information please do not hesitate to contact Tanya Bester in the BBC Alumni Office on 0416 085 136 / tbester@bbc.qld.edu.au \n\n 
URL:https://oldcollegians.com.au/event/bbc-oca-networking-breakfast/
LOCATION:Hillstone\, St Lucia\, Carawa Street\, St Lucia\, 4067\, Australia
END:VEVENT
BEGIN:VEVENT
DTSTART;TZID=Australia/Brisbane:20230222T090000
DTEND;TZID=Australia/Brisbane:20230222T100000
DTSTAMP:20260424T040155
CREATED:20230117T024859Z
LAST-MODIFIED:20230202T075558Z
UID:110748-1677056400-1677060000@oldcollegians.com.au
SUMMARY:QUT Old Boy University Tour
DESCRIPTION:Queensland University of Technology – orientation session for BBC graduates run by Young Old Boys! \nRegister here! \nPlease contact Tanya Bester in the BBC Alumni Office if you would like to be involved. \ntbester@bbc.qld.edu.au | 0416 085 136 \n 
URL:https://oldcollegians.com.au/event/qut-2023-old-boy-university-tour/
LOCATION:QUT\, Australia
END:VEVENT
BEGIN:VEVENT
DTSTART;TZID=Australia/Brisbane:20230217T180000
DTEND;TZID=Australia/Brisbane:20230217T200000
DTSTAMP:20260424T040155
CREATED:20230117T080533Z
LAST-MODIFIED:20230202T075535Z
UID:110750-1676656800-1676664000@oldcollegians.com.au
SUMMARY:OCA President's Drinks
DESCRIPTION:Free entry please RSVP – Booking Link \nPlease contact Tanya Bester in the BBC Alumni Office if you would like to be involved. \ntbester@bbc.qld.edu.au | 0416 085 136 \n 
URL:https://oldcollegians.com.au/event/oca-2023-presidents-drinks/
LOCATION:Wests Rugby Club\, 65 Sylvan Road\, Toowong\, Australia
END:VEVENT
BEGIN:VEVENT
DTSTART;TZID=Australia/Brisbane:20230215T090000
DTEND;TZID=Australia/Brisbane:20230215T100000
DTSTAMP:20260424T040155
CREATED:20230117T024558Z
LAST-MODIFIED:20230202T075616Z
UID:110746-1676451600-1676455200@oldcollegians.com.au
SUMMARY:UQ Old Boy University Tour
DESCRIPTION:University of Queensland – orientation session for BBC graduates run by Young Old Boys! \nRegister here! \nPlease contact Tanya Bester in the BBC Alumni Office if you would like to be involved. \ntbester@bbc.qld.edu.au | 0416 085 136 \n 
URL:https://oldcollegians.com.au/event/uq-2023-old-boy-university-tour/
LOCATION:University of Queensland\, Australia
ORGANIZER;CN="Tanya Bester":MAILTO:oca@bbc.qld.edu.au
END:VEVENT
BEGIN:VEVENT
DTSTART;TZID=Australia/Brisbane:20221122T120000
DTEND;TZID=Australia/Brisbane:20221122T150000
DTSTAMP:20260424T040155
CREATED:20221026T062005Z
LAST-MODIFIED:20221026T062143Z
UID:110720-1669118400-1669129200@oldcollegians.com.au
SUMMARY:Vintage Collegians Christmas Lunch
DESCRIPTION:College House | Brisbane Boys’ College\nBookings essential: Booking Link
URL:https://oldcollegians.com.au/event/vintage-collegians-christmas-lunch/
LOCATION:College House | Brisbane Boys’ College\, Kensington Terrace\, Toowong\, Queensland\, Australia
ORGANIZER;CN="Tanya Bester":MAILTO:oca@bbc.qld.edu.au
END:VEVENT
BEGIN:VEVENT
DTSTART;TZID=Australia/Brisbane:20221022T180000
DTEND;TZID=Australia/Brisbane:20221022T220000
DTSTAMP:20260424T040155
CREATED:20221001T044540Z
LAST-MODIFIED:20221006T010158Z
UID:110663-1666461600-1666476000@oldcollegians.com.au
SUMMARY:10 Year – Class of 2011 and 2012
DESCRIPTION:“We didn’t realise we were making memories – we just knew we were having fun!” \nEnjoy a 3-hour drinks and substantial canapes package at the Port Office Hotel\, and catch up with friends and classmates from your days at BBC. \nYour reunion coordinator is Cam Wallace (OC2012). \nClick here to book online
URL:https://oldcollegians.com.au/event/10-year-class-of-2011-and-2012/
LOCATION:The Port Office Hotel\, 40 Edward Street\, Brisbane\, QLD\, 4000\, Australia
CATEGORIES:Reunions
END:VEVENT
BEGIN:VEVENT
DTSTART;TZID=Australia/Brisbane:20221021T063000
DTEND;TZID=Australia/Brisbane:20221021T103000
DTSTAMP:20260424T040155
CREATED:20221001T044005Z
LAST-MODIFIED:20221006T024352Z
UID:110662-1666333800-1666348200@oldcollegians.com.au
SUMMARY:BBC Golf Day 2022
DESCRIPTION:BBC Old Collegians’ Association invites you to the annual BBC Golf Day hosted at The Brisbane Golf Club – Yeerongpilly on Friday\, 21 October. Registration is at 6am for a 7.15am start. 4 Ball Ambrose. \nHole Sponsors please contact Tanya Bester on 0416 085 136 / oca@bbc.qld.edu.au to lock in hole preference and confirm display requirements. \nProceeds raised will go to the BBC Old Boys’ Bursary. \nClick here to book online
URL:https://oldcollegians.com.au/event/bbc-golf-day-2022/
LOCATION:The Brisbane Golf Club\, 70 Tennyson Memorial Avenue\, Yeerongpilly\, QLD
CATEGORIES:Events
END:VEVENT
END:VCALENDAR